BEGIN:VCALENDAR
VERSION:2.0
PRODID:-//Tukios.com/
BEGIN:VEVENT
UID:69ded5a2-8e4f-48a6-b389-dc2255ccb199@www.fitzpatrick-funeralhome.com
DTSTAMP:20260424T220255Z
DTSTART:20260429T140000Z
DTEND:20260429T150000Z
SUMMARY:Graveside Service
DESCRIPTION:
URL:https://www.fitzpatrick-funeralhome.com/obituaries/ruthann-ward
LOCATION: 454 Durkees Ferry Road  West Terre Haute IN 47885
GEO:39.5610642;-87.4260963
END:VEVENT
END:VCALENDAR