BEGIN:VCALENDAR
VERSION:2.0
PRODID:-//Tukios.com/
BEGIN:VEVENT
UID:c83d5b27-e8cb-4745-b217-477f56575503@www.fitzpatrick-funeralhome.com
DTSTAMP:20260423T215604Z
DTSTART:20260425T160000Z
DTEND:20260425T180000Z
SUMMARY:Visitation
DESCRIPTION:
URL:https://www.fitzpatrick-funeralhome.com/obituaries/paul-wyrick-sr
LOCATION:Fitzpatrick Funeral Home  220 North 3rd Street  West Terre Haute 
	IN 47885
GEO:39.4681652;-87.4478848
END:VEVENT
END:VCALENDAR