BEGIN:VCALENDAR
VERSION:2.0
PRODID:-//Tukios.com/
BEGIN:VEVENT
UID:cff65773-0cd0-43cc-9d76-0edfd011a76a@www.fitzpatrick-funeralhome.com
DTSTAMP:20260423T213433Z
DTSTART:20260425T180000Z
DTEND:20260425T190000Z
SUMMARY:Funeral Service
DESCRIPTION:
URL:https://www.fitzpatrick-funeralhome.com/obituaries/paul-wyrick-sr
LOCATION:Fitzpatrick Funeral Home  220 North 3rd Street  West Terre Haute 
	IN 47885
GEO:39.4681652;-87.4478848
END:VEVENT
END:VCALENDAR